BEGIN:VCALENDAR
VERSION:2.0
PRODID:-//Texas Master Beekeeper Program - ECPv6.15.20//NONSGML v1.0//EN
CALSCALE:GREGORIAN
METHOD:PUBLISH
X-WR-CALNAME:Texas Master Beekeeper Program
X-ORIGINAL-URL:https://masterbeekeeper.tamu.edu
X-WR-CALDESC:Events for Texas Master Beekeeper Program
REFRESH-INTERVAL;VALUE=DURATION:PT1H
X-Robots-Tag:noindex
X-PUBLISHED-TTL:PT1H
BEGIN:VTIMEZONE
TZID:America/Chicago
BEGIN:DAYLIGHT
TZOFFSETFROM:-0600
TZOFFSETTO:-0500
TZNAME:CDT
DTSTART:20250309T080000
END:DAYLIGHT
BEGIN:STANDARD
TZOFFSETFROM:-0500
TZOFFSETTO:-0600
TZNAME:CST
DTSTART:20251102T070000
END:STANDARD
BEGIN:DAYLIGHT
TZOFFSETFROM:-0600
TZOFFSETTO:-0500
TZNAME:CDT
DTSTART:20260308T080000
END:DAYLIGHT
BEGIN:STANDARD
TZOFFSETFROM:-0500
TZOFFSETTO:-0600
TZNAME:CST
DTSTART:20261101T070000
END:STANDARD
BEGIN:DAYLIGHT
TZOFFSETFROM:-0600
TZOFFSETTO:-0500
TZNAME:CDT
DTSTART:20270314T080000
END:DAYLIGHT
BEGIN:STANDARD
TZOFFSETFROM:-0500
TZOFFSETTO:-0600
TZNAME:CST
DTSTART:20271107T070000
END:STANDARD
END:VTIMEZONE
BEGIN:VEVENT
DTSTART;TZID=America/Chicago:20260224T090000
DTEND;TZID=America/Chicago:20260224T120000
DTSTAMP:20260423T112557
CREATED:20260219T015641Z
LAST-MODIFIED:20260219T015641Z
UID:1430-1771923600-1771934400@masterbeekeeper.tamu.edu
SUMMARY:Advanced Level 10-Week Course
DESCRIPTION:Course Information  \nPreparing for the Advanced level of beekeeping can feel daunting. The volume of material\, outdated resources\, and lack of clear structure often leave beekeepers unsure of where to focus their time and energy. \nThe Texas Master Beekeeper Course: Advanced Level was developed to bring clarity and organization to that process. Over ten weeks\, you will work through a structured curriculum that breaks complex topics into manageable pieces. We’ll cover topics including advanced varroa management\, pollination\, native pollinators\, genetics\, queen rearing\, and honey production regulations. \nEach session builds toward exam readiness while reinforcing real-world application in the apiary. By the end of the course\, you will be better equipped to manage colonies with confidence and prepared to complete the in-person Texas Master Beekeeper Program Advanced Exam with a clear understanding of the material. \nCourse Objectives  \nUpon completing the course\, you will be able to: \n\nKnow the importance of pollination and be able to identify parts of a flower\nKnow families and major defining characteristics to include potential nest sites and diet in native pollinators and wasps\nUnderstand how to read and use a pesticide label to include various varroa mite treatment pesticide labels.\nUnderstand the process of queen rearing and common methods of queen rearing to include the use of starter and finisher colonies.\nUnderstand the biology of bee breeding and some basics of selective breeding.\nKnow various methods for splitting hives\, making nucleus hives\, diagnosing queen issues\, and requeening.\nKnow the process and the regulations for extracting\, bottling\, and selling honey in Texas.\nUnderstand how to be an effective mentor and communicator in the TMBP.\nBe prepared to pass the in-person TMBP Advanced Exam.\n\nCourse Modules  \n\nModule 1: Understanding Honey Bees\nModule 2: Pesticides & Advanced Varroa Management\nModule 3: Native Pollinators\, Wasps\, & Other Apis Bees\nModule 4: Honey Bee Plants\nModule 5: Splitting & Diagnosing Queen Issues\nModule 6: Honey Bee Genetics\nModule 7: Queen Rearing & Breeding\nModule 8: Extracting\, Bottling\, & Selling Honey\nModule 9: Mentoring & Communication\nModule 10: Overview\, Special Topics\, & Preparing for the Advanced Exam\n\nWhat Participants Are Saying  \n“Before taking the Advanced course\, I didn’t have a clear direction for managing my bees. After completing it\, my confidence grew\, and I now understand how to better manage my colonies because of the guidance provided.”  \n\nShanna Reed\, TMBP Advanced Beekeeper\n\n“Professor Garett was amazing! He knows his information very well. The class was focused on the topic. He broke things down; he always started very simple and grew on that information. I would definitely take another class from Prof. Garrett\, if offered. I think anyone would be very successful in his class.”  \n\nJennifer Smithers\, TMBP Advanced Beekeeper\n\nLive Virtual Session Schedule  \nThis course includes weekly live virtual sessions. Recordings are available for participants who cannot attend live. \n\nSession Day: Tuesdays\nTime: 9 a.m. – noon\nDates: February 17 – April 21\, 2026\n\nAdditional Course Details  \n\nCourse Format: Weekly virtual\, lecture-based sessions with opportunities for questions. Recordings are available after each session.\nCourse Length: This is a 10-week course. Progress is saved\, and recorded sessions may be viewed if you miss a live class.\nPrerequisites: Completion of the Texas Master Beekeeper: Apprentice Level or equivalent experience.\nProgram Pathway: Completion of this course prepares participants for the in-person Texas Master Beekeeper Program Advanced Exam and supports continued progression within the program.\n\nReady to deepen your expertise and take the next step?  \nEnroll today and continue your journey in the Texas Master Beekeeper Program.
URL:https://masterbeekeeper.tamu.edu/event/advanced-level-10-week-course-2/
LOCATION:TX
END:VEVENT
END:VCALENDAR